BEGIN:VCALENDAR
VERSION:2.0
PRODID:-//Brösarp - ECPv6.15.20//NONSGML v1.0//EN
CALSCALE:GREGORIAN
METHOD:PUBLISH
X-WR-CALNAME:Brösarp
X-ORIGINAL-URL:https://www.brosarp.se
X-WR-CALDESC:Händelser för Brösarp
REFRESH-INTERVAL;VALUE=DURATION:PT1H
X-Robots-Tag:noindex
X-PUBLISHED-TTL:PT1H
BEGIN:VTIMEZONE
TZID:Europe/Stockholm
BEGIN:DAYLIGHT
TZOFFSETFROM:+0100
TZOFFSETTO:+0200
TZNAME:CEST
DTSTART:20230326T010000
END:DAYLIGHT
BEGIN:STANDARD
TZOFFSETFROM:+0200
TZOFFSETTO:+0100
TZNAME:CET
DTSTART:20231029T010000
END:STANDARD
BEGIN:DAYLIGHT
TZOFFSETFROM:+0100
TZOFFSETTO:+0200
TZNAME:CEST
DTSTART:20240331T010000
END:DAYLIGHT
BEGIN:STANDARD
TZOFFSETFROM:+0200
TZOFFSETTO:+0100
TZNAME:CET
DTSTART:20241027T010000
END:STANDARD
BEGIN:DAYLIGHT
TZOFFSETFROM:+0100
TZOFFSETTO:+0200
TZNAME:CEST
DTSTART:20250330T010000
END:DAYLIGHT
BEGIN:STANDARD
TZOFFSETFROM:+0200
TZOFFSETTO:+0100
TZNAME:CET
DTSTART:20251026T010000
END:STANDARD
END:VTIMEZONE
BEGIN:VEVENT
DTSTART;TZID=Europe/Stockholm:20241119T181500
DTEND;TZID=Europe/Stockholm:20241119T200000
DTSTAMP:20260423T151954
CREATED:20240616T200606Z
LAST-MODIFIED:20241107T185754Z
UID:10395-1732040100-1732046400@www.brosarp.se
SUMMARY:Föredrag av riksspelman Sven Midgren
DESCRIPTION:Föredrag av riksspelman Sven Midgren om Brösarps kantor & lärare Signe Willén Thellander. \nVälkomna!
URL:https://www.brosarp.se/https-brosarp-se-event-single-post-name/forelasning-2/
LOCATION:Brösarps konsthall\, Höjerensvägen 4\, Brösarp
ORGANIZER;CN="Br%C3%B6sarps byagille":MAILTO:info@brosarp.se
END:VEVENT
END:VCALENDAR