BEGIN:VCALENDAR
VERSION:2.0
PRODID:-//Brösarp - ECPv6.15.20//NONSGML v1.0//EN
CALSCALE:GREGORIAN
METHOD:PUBLISH
X-WR-CALNAME:Brösarp
X-ORIGINAL-URL:https://www.brosarp.se
X-WR-CALDESC:Händelser för Brösarp
REFRESH-INTERVAL;VALUE=DURATION:PT1H
X-Robots-Tag:noindex
X-PUBLISHED-TTL:PT1H
BEGIN:VTIMEZONE
TZID:Europe/Stockholm
BEGIN:DAYLIGHT
TZOFFSETFROM:+0100
TZOFFSETTO:+0200
TZNAME:CEST
DTSTART:20240331T010000
END:DAYLIGHT
BEGIN:STANDARD
TZOFFSETFROM:+0200
TZOFFSETTO:+0100
TZNAME:CET
DTSTART:20241027T010000
END:STANDARD
BEGIN:DAYLIGHT
TZOFFSETFROM:+0100
TZOFFSETTO:+0200
TZNAME:CEST
DTSTART:20250330T010000
END:DAYLIGHT
BEGIN:STANDARD
TZOFFSETFROM:+0200
TZOFFSETTO:+0100
TZNAME:CET
DTSTART:20251026T010000
END:STANDARD
BEGIN:DAYLIGHT
TZOFFSETFROM:+0100
TZOFFSETTO:+0200
TZNAME:CEST
DTSTART:20260329T010000
END:DAYLIGHT
BEGIN:STANDARD
TZOFFSETFROM:+0200
TZOFFSETTO:+0100
TZNAME:CET
DTSTART:20261025T010000
END:STANDARD
END:VTIMEZONE
BEGIN:VEVENT
DTSTART;TZID=Europe/Stockholm:20251012T130000
DTEND;TZID=Europe/Stockholm:20251012T130000
DTSTAMP:20260421T014113
CREATED:20250925T064906Z
LAST-MODIFIED:20250925T065021Z
UID:10601-1760274000-1760274000@www.brosarp.se
SUMMARY:Invigning
DESCRIPTION:Under 2025 har Brösarps Byagille\, med sponsorer\, byggt ett vindskydd med grillplatser på Byaängen. \nNu är det är dags för invigning och ni är alla inbjudna!! \nVi bjuder på grillad korv och dricka. \nLekaktiviteter kommer finnas för barn samt tipsrunda för både stora och små! \nVarmt välkomna alla! \nVar: Brösarps Byaäng\nDatum & tid: 12 oktober 13.00
URL:https://www.brosarp.se/https-brosarp-se-event-single-post-name/invigning/
LOCATION:Brösarps Byaäng
CATEGORIES:Brösarps Byagille
ATTACH;FMTTYPE=image/jpeg:https://www.brosarp.se/wp-content/uploads/2025/09/byaangen.jpg
END:VEVENT
END:VCALENDAR