BEGIN:VCALENDAR
VERSION:2.0
PRODID:-//Brösarp - ECPv6.15.20//NONSGML v1.0//EN
CALSCALE:GREGORIAN
METHOD:PUBLISH
X-WR-CALNAME:Brösarp
X-ORIGINAL-URL:https://www.brosarp.se
X-WR-CALDESC:Händelser för Brösarp
REFRESH-INTERVAL;VALUE=DURATION:PT1H
X-Robots-Tag:noindex
X-PUBLISHED-TTL:PT1H
BEGIN:VTIMEZONE
TZID:Europe/Stockholm
BEGIN:DAYLIGHT
TZOFFSETFROM:+0100
TZOFFSETTO:+0200
TZNAME:CEST
DTSTART:20250330T010000
END:DAYLIGHT
BEGIN:STANDARD
TZOFFSETFROM:+0200
TZOFFSETTO:+0100
TZNAME:CET
DTSTART:20251026T010000
END:STANDARD
BEGIN:DAYLIGHT
TZOFFSETFROM:+0100
TZOFFSETTO:+0200
TZNAME:CEST
DTSTART:20260329T010000
END:DAYLIGHT
BEGIN:STANDARD
TZOFFSETFROM:+0200
TZOFFSETTO:+0100
TZNAME:CET
DTSTART:20261025T010000
END:STANDARD
BEGIN:DAYLIGHT
TZOFFSETFROM:+0100
TZOFFSETTO:+0200
TZNAME:CEST
DTSTART:20270328T010000
END:DAYLIGHT
BEGIN:STANDARD
TZOFFSETFROM:+0200
TZOFFSETTO:+0100
TZNAME:CET
DTSTART:20271031T010000
END:STANDARD
END:VTIMEZONE
BEGIN:VEVENT
DTSTART;TZID=Europe/Stockholm:20260103T080000
DTEND;TZID=Europe/Stockholm:20260104T170000
DTSTAMP:20260420T095629
CREATED:20251211T154337Z
LAST-MODIFIED:20251211T154337Z
UID:10610-1767427200-1767546000@www.brosarp.se
SUMMARY:MTB Skola barn
DESCRIPTION:Jordnära Skill park – Brösarp – Källagården \nLördag 3/1 Nivå lätt grund ca 7-10 år \nSöndag 4/1 Nivå fortsättning grund 9-12 år \nKostnadsfritt. Små grupper. Först till kvarn. \nAnmälan genom mail helena@rimfors.se \nMer information kommer vid anmälan. \nArrangeras av Jordnära Upplevelser tillsammans med Brösarps byagille med stöd från Tomelilla kommun
URL:https://www.brosarp.se/https-brosarp-se-event-single-post-name/mtb-skola-barn/
ATTACH;FMTTYPE=image/jpeg:https://www.brosarp.se/wp-content/uploads/2025/12/jordnara.jpg
END:VEVENT
END:VCALENDAR