BEGIN:VCALENDAR
VERSION:2.0
PRODID:-//Brösarp - ECPv6.15.20//NONSGML v1.0//EN
CALSCALE:GREGORIAN
METHOD:PUBLISH
X-WR-CALNAME:Brösarp
X-ORIGINAL-URL:https://www.brosarp.se
X-WR-CALDESC:Händelser för Brösarp
REFRESH-INTERVAL;VALUE=DURATION:PT1H
X-Robots-Tag:noindex
X-PUBLISHED-TTL:PT1H
BEGIN:VTIMEZONE
TZID:Europe/Stockholm
BEGIN:DAYLIGHT
TZOFFSETFROM:+0100
TZOFFSETTO:+0200
TZNAME:CEST
DTSTART:20250330T010000
END:DAYLIGHT
BEGIN:STANDARD
TZOFFSETFROM:+0200
TZOFFSETTO:+0100
TZNAME:CET
DTSTART:20251026T010000
END:STANDARD
BEGIN:DAYLIGHT
TZOFFSETFROM:+0100
TZOFFSETTO:+0200
TZNAME:CEST
DTSTART:20260329T010000
END:DAYLIGHT
BEGIN:STANDARD
TZOFFSETFROM:+0200
TZOFFSETTO:+0100
TZNAME:CET
DTSTART:20261025T010000
END:STANDARD
BEGIN:DAYLIGHT
TZOFFSETFROM:+0100
TZOFFSETTO:+0200
TZNAME:CEST
DTSTART:20270328T010000
END:DAYLIGHT
BEGIN:STANDARD
TZOFFSETFROM:+0200
TZOFFSETTO:+0100
TZNAME:CET
DTSTART:20271031T010000
END:STANDARD
END:VTIMEZONE
BEGIN:VEVENT
DTSTART;TZID=Europe/Stockholm:20260402T080000
DTEND;TZID=Europe/Stockholm:20260402T100000
DTSTAMP:20260420T052331
CREATED:20260129T164244Z
LAST-MODIFIED:20260130T151405Z
UID:10624-1775116800-1775124000@www.brosarp.se
SUMMARY:Sillafrukost
DESCRIPTION:Starta påsken med traditionsenlig Sillafrukost på Grisen & Draken. Kostnad 50 kronor
URL:https://www.brosarp.se/https-brosarp-se-event-single-post-name/sillafrukost-3/
LOCATION:Grisen & Draken\, Smedjevägen 12\, Brösarp\, 27350\, Sverige
ATTACH;FMTTYPE=image/jpeg:https://www.brosarp.se/wp-content/uploads/2016/03/sillafrukost.jpg
END:VEVENT
END:VCALENDAR