BEGIN:VCALENDAR
VERSION:2.0
PRODID:-//Brösarp - ECPv6.15.20//NONSGML v1.0//EN
CALSCALE:GREGORIAN
METHOD:PUBLISH
X-ORIGINAL-URL:https://www.brosarp.se
X-WR-CALDESC:Händelser för Brösarp
REFRESH-INTERVAL;VALUE=DURATION:PT1H
X-Robots-Tag:noindex
X-PUBLISHED-TTL:PT1H
BEGIN:VTIMEZONE
TZID:Europe/Stockholm
BEGIN:DAYLIGHT
TZOFFSETFROM:+0100
TZOFFSETTO:+0200
TZNAME:CEST
DTSTART:20240331T010000
END:DAYLIGHT
BEGIN:STANDARD
TZOFFSETFROM:+0200
TZOFFSETTO:+0100
TZNAME:CET
DTSTART:20241027T010000
END:STANDARD
BEGIN:DAYLIGHT
TZOFFSETFROM:+0100
TZOFFSETTO:+0200
TZNAME:CEST
DTSTART:20250330T010000
END:DAYLIGHT
BEGIN:STANDARD
TZOFFSETFROM:+0200
TZOFFSETTO:+0100
TZNAME:CET
DTSTART:20251026T010000
END:STANDARD
BEGIN:DAYLIGHT
TZOFFSETFROM:+0100
TZOFFSETTO:+0200
TZNAME:CEST
DTSTART:20260329T010000
END:DAYLIGHT
BEGIN:STANDARD
TZOFFSETFROM:+0200
TZOFFSETTO:+0100
TZNAME:CET
DTSTART:20261025T010000
END:STANDARD
END:VTIMEZONE
BEGIN:VEVENT
DTSTART;TZID=Europe/Stockholm:20250106T093000
DTEND;TZID=Europe/Stockholm:20250106T153000
DTSTAMP:20260420T115455
CREATED:20241209T165005Z
LAST-MODIFIED:20241209T165005Z
UID:10443-1736155800-1736177400@www.brosarp.se
SUMMARY:MTB skola för barn på jullovet - Brösarps Byagille och Jordnära upplevelser bjuder in
DESCRIPTION:Man behöver en cykel med styre\, två hjul\, gärna ett par växlar och hjälm såklart! \nVar: På Jordnäras träningsbana på Källagården i Brösarp\nNär: Måndag den 6 januari 2025\nHur: Lekfulla lektioner med glädje som drivkraft till utveckling\nKursledare: Helena Rimfors certifierad Mountainbikeinstruktör Jordnära Upplevelser \nFöranmälan krävs \nNivå 1 09:30-12:00 Barn 7-10 år\nFör dig som har en cykel och cyklar ibland men vill bli lite modigare. Lektionen\nbörjar med äppelmust och macka.\n12:00-13:00 Gemensam lunch för nivå 1 och nivå 2 \nNivå 2 12:00-ca 15:30 Barn 9-14 år.\nFör dig som tycker om att cykla\, cyklar ganska ofta och vill lära dig ännu mer.\nLektionen slutar med äppelmust och macka. \nFrågor MTB-skolan: Helena Rimfors 073-3386393\nKontakt Brösarps Byagille: info@brosarp.se \nAnmälan senast 28 december till: helena@rimfors.se OBS!!! Begränsat antal platser \nBrösarps byagille arrangerar MTB skolan kostnadsfritt tillsammans med Jordnära Upplevelser med stöd från Tomelilla kommun
URL:https://www.brosarp.se/https-brosarp-se-event-single-post-name/mtb-skola-for-barn-pa-jullovet-brosarps-byagille-och-jordnara-upplevelser-bjuder-in/
LOCATION:Källagården\, Källagården\, Brösarp\, 27350\, Sweden
ATTACH;FMTTYPE=image/jpeg:https://www.brosarp.se/wp-content/uploads/2024/12/MBT.jpg
END:VEVENT
BEGIN:VEVENT
DTSTART;TZID=Europe/Stockholm:20250111T140000
DTEND;TZID=Europe/Stockholm:20250111T153000
DTSTAMP:20260420T115455
CREATED:20240606T195540Z
LAST-MODIFIED:20241222T152600Z
UID:10384-1736604000-1736609400@www.brosarp.se
SUMMARY:Julgransplundring
DESCRIPTION:Ta med egen fika.
URL:https://www.brosarp.se/https-brosarp-se-event-single-post-name/julgransplundring-2/
LOCATION:Brösarps bygdegård\, Albovägen 36\, Brösarp\, 273 50\, Sweden
CATEGORIES:Brösarps Byagille
ATTACH;FMTTYPE=image/jpeg:https://www.brosarp.se/wp-content/uploads/2023/09/julgran-scaled.jpg
ORGANIZER;CN="Br%C3%B6sarps byagille":MAILTO:info@brosarp.se
END:VEVENT
END:VCALENDAR