BEGIN:VCALENDAR
VERSION:2.0
PRODID:-//Brösarp - ECPv6.15.20//NONSGML v1.0//EN
CALSCALE:GREGORIAN
METHOD:PUBLISH
X-WR-CALNAME:Brösarp
X-ORIGINAL-URL:https://www.brosarp.se
X-WR-CALDESC:Händelser för Brösarp
REFRESH-INTERVAL;VALUE=DURATION:PT1H
X-Robots-Tag:noindex
X-PUBLISHED-TTL:PT1H
BEGIN:VTIMEZONE
TZID:Europe/Stockholm
BEGIN:DAYLIGHT
TZOFFSETFROM:+0100
TZOFFSETTO:+0200
TZNAME:CEST
DTSTART:20240331T010000
END:DAYLIGHT
BEGIN:STANDARD
TZOFFSETFROM:+0200
TZOFFSETTO:+0100
TZNAME:CET
DTSTART:20241027T010000
END:STANDARD
BEGIN:DAYLIGHT
TZOFFSETFROM:+0100
TZOFFSETTO:+0200
TZNAME:CEST
DTSTART:20250330T010000
END:DAYLIGHT
BEGIN:STANDARD
TZOFFSETFROM:+0200
TZOFFSETTO:+0100
TZNAME:CET
DTSTART:20251026T010000
END:STANDARD
BEGIN:DAYLIGHT
TZOFFSETFROM:+0100
TZOFFSETTO:+0200
TZNAME:CEST
DTSTART:20260329T010000
END:DAYLIGHT
BEGIN:STANDARD
TZOFFSETFROM:+0200
TZOFFSETTO:+0100
TZNAME:CET
DTSTART:20261025T010000
END:STANDARD
END:VTIMEZONE
BEGIN:VEVENT
DTSTART;TZID=Europe/Stockholm:20250601T100000
DTEND;TZID=Europe/Stockholm:20250601T130000
DTSTAMP:20260420T172854
CREATED:20241222T162208Z
LAST-MODIFIED:20241222T162208Z
UID:10469-1748772000-1748782800@www.brosarp.se
SUMMARY:Bakluckeloppis
DESCRIPTION:Fynda eller sälj! Ett tillfälle där fantastiska saker kan byta ägare. \n50 kr cykel\n100 :- bil\n150 :- bil med släp \nNi som vill sälja\, kom till platsen mellan 09.00 – 09.30 för att få en plats.
URL:https://www.brosarp.se/https-brosarp-se-event-single-post-name/bakluckeloppis-11/
LOCATION:Gamla vägstationsområdet\, Smedjevägen 11\, Brösarp
CATEGORIES:Brösarps Byagille
ATTACH;FMTTYPE=image/jpeg:https://www.brosarp.se/wp-content/uploads/2023/04/loppis-e1681385509901.jpg
END:VEVENT
BEGIN:VEVENT
DTSTART;TZID=Europe/Stockholm:20250606T171500
DTEND;TZID=Europe/Stockholm:20250606T171500
DTSTAMP:20260420T172854
CREATED:20241222T162446Z
LAST-MODIFIED:20250525T191236Z
UID:10471-1749230100-1749230100@www.brosarp.se
SUMMARY:Nationaldagsfirande
DESCRIPTION:Nationaldagskommittén i Brösarp bjuder den 6 juni 2025 in till Nationaldagsfirande \n17:15 Samling på Brinkehems parkering för sång och sedan marsch till Byaängen. \nProgrampunkter: \n-Tomelilla Ungdomsorkester spelar \n-Sång av Lina Pyk \n-Högtidstal av Björn Ranelid \n-Fallskärmshoppning med flagga 18:00 (om vädret tillåter) \nScouterna har grillad korv och fika till försäljning! \nVälkommen!
URL:https://www.brosarp.se/https-brosarp-se-event-single-post-name/nationaldagsfirande-3/
LOCATION:Brösarps Byaäng
CATEGORIES:Brösarps Byagille
ATTACH;FMTTYPE=image/jpeg:https://www.brosarp.se/wp-content/uploads/2024/01/sv-flaggan.jpg
END:VEVENT
BEGIN:VEVENT
DTSTART;TZID=Europe/Stockholm:20250620T130000
DTEND;TZID=Europe/Stockholm:20250620T130000
DTSTAMP:20260420T172854
CREATED:20241222T162945Z
LAST-MODIFIED:20250609T192007Z
UID:10473-1750424400-1750424400@www.brosarp.se
SUMMARY:Midsommarfirande på Brösarps byaäng
DESCRIPTION:Torsdag 19 juni: kl. 18.00 klär vi midsommarstången med grönt.\nBarn & vuxna mycket välkomna! \nMidsommarafton:\nKl. 13.00 kläs midsommarstången med egna medhavda blommor.\nKl. 14.00 reser vi stången och börjar dansen.\nFörtäring: medhavd picknick\, barn bjuds på glass. \nVälkomna!
URL:https://www.brosarp.se/https-brosarp-se-event-single-post-name/midsommarfirande-3/
LOCATION:Brösarps Byaäng
ATTACH;FMTTYPE=image/jpeg:https://www.brosarp.se/wp-content/uploads/2023/04/midsommarblommor-e1681386986689.jpg
END:VEVENT
BEGIN:VEVENT
DTSTART;TZID=Europe/Stockholm:20250629T100000
DTEND;TZID=Europe/Stockholm:20250629T130000
DTSTAMP:20260420T172854
CREATED:20241222T163209Z
LAST-MODIFIED:20241222T163209Z
UID:10475-1751191200-1751202000@www.brosarp.se
SUMMARY:Bakluckeloppis
DESCRIPTION:Fynda eller sälj! Ett tillfälle där fantastiska saker kan byta ägare. \n50 kr cykel\n100 :- bil\n150 :- bil med släp \nNi som vill sälja\, kom till platsen mellan 09.00 – 09.30 för att få en plats.
URL:https://www.brosarp.se/https-brosarp-se-event-single-post-name/bakluckeloppis-12/
LOCATION:Gamla vägstationsområdet\, Smedjevägen 11\, Brösarp
ATTACH;FMTTYPE=image/jpeg:https://www.brosarp.se/wp-content/uploads/2023/04/loppis-e1681385509901.jpg
END:VEVENT
END:VCALENDAR