BEGIN:VCALENDAR
VERSION:2.0
PRODID:-//Brösarp - ECPv6.15.20//NONSGML v1.0//EN
CALSCALE:GREGORIAN
METHOD:PUBLISH
X-WR-CALNAME:Brösarp
X-ORIGINAL-URL:https://www.brosarp.se
X-WR-CALDESC:Händelser för Brösarp
REFRESH-INTERVAL;VALUE=DURATION:PT1H
X-Robots-Tag:noindex
X-PUBLISHED-TTL:PT1H
BEGIN:VTIMEZONE
TZID:Europe/Stockholm
BEGIN:DAYLIGHT
TZOFFSETFROM:+0100
TZOFFSETTO:+0200
TZNAME:CEST
DTSTART:20240331T010000
END:DAYLIGHT
BEGIN:STANDARD
TZOFFSETFROM:+0200
TZOFFSETTO:+0100
TZNAME:CET
DTSTART:20241027T010000
END:STANDARD
BEGIN:DAYLIGHT
TZOFFSETFROM:+0100
TZOFFSETTO:+0200
TZNAME:CEST
DTSTART:20250330T010000
END:DAYLIGHT
BEGIN:STANDARD
TZOFFSETFROM:+0200
TZOFFSETTO:+0100
TZNAME:CET
DTSTART:20251026T010000
END:STANDARD
BEGIN:DAYLIGHT
TZOFFSETFROM:+0100
TZOFFSETTO:+0200
TZNAME:CEST
DTSTART:20260329T010000
END:DAYLIGHT
BEGIN:STANDARD
TZOFFSETFROM:+0200
TZOFFSETTO:+0100
TZNAME:CET
DTSTART:20261025T010000
END:STANDARD
END:VTIMEZONE
BEGIN:VEVENT
DTSTART;TZID=Europe/Stockholm:20250801T120000
DTEND;TZID=Europe/Stockholm:20250801T173000
DTSTAMP:20260420T203242
CREATED:20250120T190434Z
LAST-MODIFIED:20250120T192906Z
UID:10492-1754049600-1754069400@www.brosarp.se
SUMMARY:Hyllningskonsert till Olle Adolphson
DESCRIPTION:Nils Landgren m.fl hyllar vispoeten Olle Adolphson \nVarmt välkommen till Österlen där kulturprojektet Älskade Olle! för femte året i rad arrangerar en konsert på Skepparps Vingård vid vackra Haväng\, som Olle Adolphson ofta besökte under sina år på Österlen. På scenen möter du Nils Landgren\, Beatrice Järås och Anders Anton Påhlsson. Nils med sin röda trombon och sammetslena röst är en legend inom musik och jazz. Beatrice känner vi som folkkär musikalartist och skådespelare\, nu ger hon sig hän i Olles vispoesi och prosa. Anders är vissångare och gitarrist med starka och självständiga tolkningar av Olles visor. Dessutom på scenen vårt husband med basisten Jesper Nordberg och pianisten Martin Berggren samt Olle Adolphson-kännaren Börje Bengtsson som konferencier. \nPassa på att njuta av vingårdens goda mat och drycker före eller efter konserten. Måste bokas i förväg. \nKostnad för konsert: 465 kr / 525 kr / 565 kr  Biljetter via hemsidan https://alskadeolle.se/ \nE-post arrangör: info@fahundevenemang.se
URL:https://www.brosarp.se/https-brosarp-se-event-single-post-name/hyllningskonsert-till-olle-adolphson/
LOCATION:Skepparps vingård\, Verkaåvägen 56\, Kivik\, 277 37\, Sweden
ATTACH;FMTTYPE=image/jpeg:https://www.brosarp.se/wp-content/uploads/2025/01/Adolfsson25.jpg
ORGANIZER;CN="F%C3%A4hund Evenemang AB":MAILTO:borje@fahundevenemang.se
END:VEVENT
BEGIN:VEVENT
DTSTART;TZID=Europe/Stockholm:20250808T120000
DTEND;TZID=Europe/Stockholm:20250808T163000
DTSTAMP:20260420T203242
CREATED:20250120T192514Z
LAST-MODIFIED:20250120T192514Z
UID:10495-1754654400-1754670600@www.brosarp.se
SUMMARY:Vandring i Olle Adolphsons fotspår
DESCRIPTION:Upplev fantastiska Drakamöllan med guide\, mat och musik \nKulturprojektet Älskade Olle! tar dig under 2025 med på en unik och sedan ett par år populär guidad tur i det vackra landskapet i Drakamöllan naturreservat där Olle Adolphson levde och inspirerades under 20 år. Du får lyssna på visorna som Olle skrev på Österlen med vissångaren Anders Anton Påhlsson och berättelser längs vägen av Olle Adolphson-kännaren Börje Bengtsson. På vandringen njuter du av ljungklädda hedar och besök på gården Orelyckan och även en vacker vy mot Björshus som var hemvist för Olle. Vi inleder med lunch på Drakamöllan Gårdshotell\, som tidigare ägdes av Olle Adolphsons bästa vän Christer Mörner. Vi njuter även av gårdshotellets kaffekorg vid Orelyckan. Vandringen är ca 5 km i medelsvår terräng med några stättor att stiga över. Hundar får ej tas med till lunch eller vandring. \nVi vandrar fredag 8/8\, söndag 17/8\, söndag 24/8 kl 12-16.30. \nKostnad:  775 kr  – Biljetter via hemsidan https://alskadeolle.se/ \n 
URL:https://www.brosarp.se/https-brosarp-se-event-single-post-name/vandring-i-olle-adolphsons-fotspar-4/
LOCATION:Drakamöllans gårdshotell\, Drakamöllan 108\, Degeberga\, 297 95
ATTACH;FMTTYPE=image/jpeg:https://www.brosarp.se/wp-content/uploads/2025/01/Adolfsson25-2.jpg
ORGANIZER;CN="F%C3%A4hund Evenemang AB":MAILTO:borje@fahundevenemang.se
END:VEVENT
BEGIN:VEVENT
DTSTART;TZID=Europe/Stockholm:20250816T190000
DTEND;TZID=Europe/Stockholm:20250816T190000
DTSTAMP:20260420T203242
CREATED:20250525T115634Z
LAST-MODIFIED:20250525T120307Z
UID:10535-1755370800-1755370800@www.brosarp.se
SUMMARY:Cadillac band hyllar Elvis
DESCRIPTION:Cadillac band kommer till Byaängen och hyllar Elvis.\nTa med en stol \, lyssna och njut! \nPlats Brösarps Byaäng\nStart 19.00\nPris  200kr vuxna\,  100kr ungdom (13-18). Betalning på plats med Swish eller kontant
URL:https://www.brosarp.se/https-brosarp-se-event-single-post-name/cadillac-band-firar-elvis/
LOCATION:Brösarps Byaäng
END:VEVENT
BEGIN:VEVENT
DTSTART;TZID=Europe/Stockholm:20250817T120000
DTEND;TZID=Europe/Stockholm:20250817T163000
DTSTAMP:20260420T203242
CREATED:20250120T193758Z
LAST-MODIFIED:20250120T193758Z
UID:10499-1755432000-1755448200@www.brosarp.se
SUMMARY:Vandring i Olle Adolphsons fotspår
DESCRIPTION:Upplev fantastiska Drakamöllan med guide\, mat och musik \nKulturprojektet Älskade Olle! tar dig under 2025 med på en unik och sedan ett par år populär guidad tur i det vackra landskapet i Drakamöllan naturreservat där Olle Adolphson levde och inspirerades under 20 år. Du får lyssna på visorna som Olle skrev på Österlen med vissångaren Anders Anton Påhlsson och berättelser längs vägen av Olle Adolphson-kännaren Börje Bengtsson. På vandringen njuter du av ljungklädda hedar och besök på gården Orelyckan och även en vacker vy mot Björshus som var hemvist för Olle. Vi inleder med lunch på Drakamöllan Gårdshotell\, som tidigare ägdes av Olle Adolphsons bästa vän Christer Mörner. Vi njuter även av gårdshotellets kaffekorg vid Orelyckan. Vandringen är ca 5 km i medelsvår terräng med några stättor att stiga över. Hundar får ej tas med till lunch eller vandring. \nVi vandrar fredag 8/8\, söndag 17/8\, söndag 24/8 kl 12-16.30. \nKostnad:  775 kr  – Biljetter via hemsidan https://alskadeolle.se/ \nE-post arrangör: info@fahundevenemang.se
URL:https://www.brosarp.se/https-brosarp-se-event-single-post-name/vandring-i-olle-adolphsons-fotspar-5/
LOCATION:Drakamöllans gårdshotell\, Drakamöllan 108\, Degeberga\, 297 95
ATTACH;FMTTYPE=image/jpeg:https://www.brosarp.se/wp-content/uploads/2025/01/Adolfsson25-2.jpg
ORGANIZER;CN="F%C3%A4hund Evenemang AB":MAILTO:borje@fahundevenemang.se
END:VEVENT
BEGIN:VEVENT
DTSTART;TZID=Europe/Stockholm:20250824T120000
DTEND;TZID=Europe/Stockholm:20250824T163000
DTSTAMP:20260420T203242
CREATED:20250120T194405Z
LAST-MODIFIED:20250120T194405Z
UID:10501-1756036800-1756053000@www.brosarp.se
SUMMARY:Vandring i Olle Adolphsons fotspår
DESCRIPTION:Upplev fantastiska Drakamöllan med guide\, mat och musik \nKulturprojektet Älskade Olle! tar dig under 2025 med på en unik och sedan ett par år populär guidad tur i det vackra landskapet i Drakamöllan naturreservat där Olle Adolphson levde och inspirerades under 20 år. Du får lyssna på visorna som Olle skrev på Österlen med vissångaren Anders Anton Påhlsson och berättelser längs vägen av Olle Adolphson-kännaren Börje Bengtsson. På vandringen njuter du av ljungklädda hedar och besök på gården Orelyckan och även en vacker vy mot Björshus som var hemvist för Olle. Vi inleder med lunch på Drakamöllan Gårdshotell\, som tidigare ägdes av Olle Adolphsons bästa vän Christer Mörner. Vi njuter även av gårdshotellets kaffekorg vid Orelyckan. Vandringen är ca 5 km i medelsvår terräng med några stättor att stiga över. Hundar får ej tas med till lunch eller vandring. \nVi vandrar fredag 8/8\, söndag 17/8\, söndag 24/8 kl 12-16.30. \nKostnad:  775 kr  – Biljetter via hemsidan https://alskadeolle.se/
URL:https://www.brosarp.se/https-brosarp-se-event-single-post-name/vandring-i-olle-adolphsons-fotspar-6/
LOCATION:Drakamöllans gårdshotell\, Drakamöllan 108\, Degeberga\, 297 95
ATTACH;FMTTYPE=image/jpeg:https://www.brosarp.se/wp-content/uploads/2025/01/Adolfsson25-2.jpg
ORGANIZER;CN="F%C3%A4hund Evenemang AB":MAILTO:borje@fahundevenemang.se
END:VEVENT
BEGIN:VEVENT
DTSTART;TZID=Europe/Stockholm:20250831T100000
DTEND;TZID=Europe/Stockholm:20250831T130000
DTSTAMP:20260420T203242
CREATED:20250724T191628Z
LAST-MODIFIED:20250724T191628Z
UID:10573-1756634400-1756645200@www.brosarp.se
SUMMARY:Bakluckeloppis
DESCRIPTION:Fynda på vår bakluckeloppis! \nSäljarna slår upp sina bakluckor på gamla vägstationens område i Brösarp. \n100 :- bil\n150 :- bil med släp\nBegränsat antal bord
URL:https://www.brosarp.se/https-brosarp-se-event-single-post-name/bakluckeloppis-14/
LOCATION:Gamla vägstationsområdet\, Smedjevägen 11\, Brösarp
CATEGORIES:Brösarps Byagille
ATTACH;FMTTYPE=image/jpeg:https://www.brosarp.se/wp-content/uploads/2023/04/loppis-e1681385509901.jpg
END:VEVENT
END:VCALENDAR