BEGIN:VCALENDAR
VERSION:2.0
PRODID:-//Brösarp - ECPv6.15.20//NONSGML v1.0//EN
CALSCALE:GREGORIAN
METHOD:PUBLISH
X-WR-CALNAME:Brösarp
X-ORIGINAL-URL:https://www.brosarp.se
X-WR-CALDESC:Händelser för Brösarp
REFRESH-INTERVAL;VALUE=DURATION:PT1H
X-Robots-Tag:noindex
X-PUBLISHED-TTL:PT1H
BEGIN:VTIMEZONE
TZID:Europe/Stockholm
BEGIN:DAYLIGHT
TZOFFSETFROM:+0100
TZOFFSETTO:+0200
TZNAME:CEST
DTSTART:20240331T010000
END:DAYLIGHT
BEGIN:STANDARD
TZOFFSETFROM:+0200
TZOFFSETTO:+0100
TZNAME:CET
DTSTART:20241027T010000
END:STANDARD
BEGIN:DAYLIGHT
TZOFFSETFROM:+0100
TZOFFSETTO:+0200
TZNAME:CEST
DTSTART:20250330T010000
END:DAYLIGHT
BEGIN:STANDARD
TZOFFSETFROM:+0200
TZOFFSETTO:+0100
TZNAME:CET
DTSTART:20251026T010000
END:STANDARD
BEGIN:DAYLIGHT
TZOFFSETFROM:+0100
TZOFFSETTO:+0200
TZNAME:CEST
DTSTART:20260329T010000
END:DAYLIGHT
BEGIN:STANDARD
TZOFFSETFROM:+0200
TZOFFSETTO:+0100
TZNAME:CET
DTSTART:20261025T010000
END:STANDARD
END:VTIMEZONE
BEGIN:VEVENT
DTSTART;TZID=Europe/Stockholm:20250901T080000
DTEND;TZID=Europe/Stockholm:20250901T170000
DTSTAMP:20260420T222023
CREATED:20250615T194334Z
LAST-MODIFIED:20250615T194334Z
UID:10564-1756713600-1756746000@www.brosarp.se
SUMMARY:Är bygget på Byaängen klart\, tro?
DESCRIPTION:Just nu växer något speciellt fram på Byaängen… \nMed våra sponsorer har Byagillet påbörjat vårt stora projekt under 2025\, ett vindskydd med grillplatser. \nFärdiga resultatet kommer under hösten\, under tiden ber vi om ursäkt för eventuellt stök.
URL:https://www.brosarp.se/https-brosarp-se-event-single-post-name/ar-bygget-pa-byaangen-klart-tro/
LOCATION:Brösarps Byaäng
ATTACH;FMTTYPE=image/jpeg:https://www.brosarp.se/wp-content/uploads/2025/06/Vi-bygger-till.vindskydd-Byaangen-1-1-1.jpg
END:VEVENT
BEGIN:VEVENT
DTSTART;TZID=Europe/Stockholm:20250907T110000
DTEND;TZID=Europe/Stockholm:20250907T160000
DTSTAMP:20260420T222023
CREATED:20250724T191908Z
LAST-MODIFIED:20250819T112438Z
UID:10575-1757242800-1757260800@www.brosarp.se
SUMMARY:Brösarpsdagen
DESCRIPTION:Varmt välkomna till Brösarpsdagen med bekanta och nya inslag!  \nTid: klockan 11:00 – 16:00 \nKom till Brösarps Byaäng för att fira Brösarpsdagen med hoppborg\, ponnyridning och prova på mountainbike!\nI år anordnar vi 2 ankrace\, 20:- per anka! \nMusikunderhållning hela dagen\, önska gärna en favoritlåt! Träffa lokala organisationer och lär dig mer om dem!\nMöt även lokala utställare med fantastiska och närproducerade produkter\, hitta något speciellt för dig och dina kära!\nTa en välförtjänt paus och ät något gott från serveringen!\nVinn på lotteri med härliga priser!
URL:https://www.brosarp.se/https-brosarp-se-event-single-post-name/brosarpsdagen/
LOCATION:Brösarps Byaäng
CATEGORIES:Brösarps Byagille
END:VEVENT
BEGIN:VEVENT
DTSTART;TZID=Europe/Stockholm:20250928T100000
DTEND;TZID=Europe/Stockholm:20250928T130000
DTSTAMP:20260420T222023
CREATED:20250724T192300Z
LAST-MODIFIED:20250724T192300Z
UID:10577-1759053600-1759064400@www.brosarp.se
SUMMARY:Bakluckeloppis
DESCRIPTION:Fynda på vår bakluckeloppis! \nSäljarna slår upp sina bakluckor på gamla vägstationens område i Brösarp. \n100 :- bil\n150 :- bil med släp\nBegränsat antal bord
URL:https://www.brosarp.se/https-brosarp-se-event-single-post-name/bakluckeloppis-15/
LOCATION:Gamla vägstationsområdet\, Smedjevägen 11\, Brösarp
ATTACH;FMTTYPE=image/jpeg:https://www.brosarp.se/wp-content/uploads/2023/04/loppis-e1681385509901.jpg
END:VEVENT
END:VCALENDAR